Workbook

Sheet Reporte
B2: Reclamos en Mercado Público
B4: Reclamo | C4: Enero | D4: Febrero | E4: Marzo | F4: Abril | G4: Mayo | H4: Junio | I4: Julio | J4: Agosto | K4: Septiembre | L4: Octubre | M4: Noviembre | N4: Diciembre | O4: Acumulado
B5: Pago no oportuno | C5: 0 | D5: 0 | E5: 0 | F5: 0 | G5: 0 | H5: 0 | I5: 0 | J5: 0 | K5: 0 | O5: =SUM(C5:N5) -> 0
B6: Irregul. Proceso de Compra | C6: 0 | D6: 0 | E6: 0 | F6: 0 | G6: 0 | H6: 1 | I6: 0 | J6: 0 | K6: 0 | O6: =SUM(C6:N6) -> 1
B7: Total | C7: =SUM(C5:C6) -> 0 | D7: 0 | E7: 0 | F7: 0 | G7: 0 | H7: =SUM(H5:H6) -> 1 | I7: =SUM(I5:I6) -> 0 | J7: =SUM(J5:J6) -> 0 | K7: =SUM(K5:K6) -> 0 | O7: =SUM(O5:O6) -> 1
B8: Total % Meta | C8: =+C7/C17 -> 0 | D8: =+D7/D17 -> 0 | E8: =+E7/E17 -> 0 | F8: =+F7/F17 -> 0 | G8: =+G7/G17 -> 0 | H8: =+H7/H17 -> 0.1 | I8: =+I7/I17 -> 0 | J8: =+J7/J17 -> 0 | K8: =+K7/K17 -> 0 | O8: =+O7/O17 -> 0.018518519
B10: Contrataciones
B11: Ordenes de Compra | C11: Enero | D11: Febrero | E11: Marzo | F11: Abril | G11: Mayo | H11: Junio | I11: Julio | J11: Agosto | K11: Septiembre | L11: Octubre | M11: Noviembre | N11: Diciembre | O11: Acumulado
B12: Convenio Marco | C12: =COUNTIF('Compras Enero'!$D$2:$D$6,"Convenio Marco") -> 0 | D12: =COUNTIF('Compras Febrero'!$D$2:$D$7,"Convenio Marco") -> 2 | E12: =COUNTIF('Compras Marzo'!$D$2:$D$4,"Convenio Marco") -> 0 | F12: =COUNTIF('Compras Abril'!$D$2:$D$9,"Convenio Marco") -> 0 | G12: =COUNTIF('Compras Mayo'!$D$2:$D$5,"Convenio Marco") -> 0 | H12: =COUNTIF('Compras Junio'!$D$2:$D$11,"Convenio Marco") -> 1 | I12: =COUNTIF('Compras Julio'!$D$2:$D$5,"Convenio Marco") -> 0 | J12: =COUNTIF('Compras Agosto'!$D$2:$D$11,"Convenio Marco") -> 6 | K12: =COUNTIF('Compras Septiembre'!$D$2:$D$5,"Convenio Marco") -> 2 | O12: =SUM(C12:N12) -> 11
B13: Licitaciones | C13: =COUNTIF('Compras Enero'!$D$2:$D$6,"Licitaciones") -> 0 | D13: =COUNTIF('Compras Febrero'!$D$2:$D$7,"Licitaciones") -> 0 | E13: =COUNTIF('Compras Marzo'!$D$2:$D$4,"Licitaciones") -> 1 | F13: =COUNTIF('Compras Abril'!$D$2:$D$9,"Licitaciones") -> 0 | G13: =COUNTIF('Compras Mayo'!$D$2:$D$5,"Licitaciones") -> 0 | H13: =COUNTIF('Compras Junio'!$D$2:$D$11,"Licitaciones") -> 2 | I13: =COUNTIF('Compras Julio'!$D$2:$D$5,"Licitaciones") -> 1 | J13: =COUNTIF('Compras Agosto'!$D$2:$D$11,"Licitaciones") -> 0 | K13: =COUNTIF('Compras Septiembre'!$D$2:$D$5,"Licitaciones") -> 0 | O13: =SUM(C13:N13) -> 4
B14: Trato Directo | C14: =COUNTIF('Compras Enero'!$D$2:$D$6,"Trato Directo") -> 0 | D14: =COUNTIF('Compras Febrero'!$D$2:$D$7,"Trato Directo") -> 1 | E14: =COUNTIF('Compras Marzo'!$D$2:$D$4,"Trato Directo") -> 0 | F14: =COUNTIF('Compras Abril'!$D$2:$D$9,"Trato Directo") -> 0 | G14: =COUNTIF('Compras Mayo'!$D$2:$D$5,"Trato Directo") -> 0 | H14: =COUNTIF('Compras Junio'!$D$2:$D$11,"Trato Directo") -> 1 | I14: =COUNTIF('Compras Julio'!$D$2:$D$5,"Trato Directo") -> 0 | J14: =COUNTIF('Compras Agosto'!$D$2:$D$11,"Trato Directo") -> 1 | K14: =COUNTIF('Compras Septiembre'!$D$2:$D$5,"Trato Directo") -> 0 | O14: =SUM(C14:N14) -> 3
B15: Compra Ágil | C15: =COUNTIF('Compras Enero'!$D$2:$D$6,"Compra Ágil") -> 5 | D15: =COUNTIF('Compras Febrero'!$D$2:$D$7,"Compra Ágil") -> 3 | E15: =COUNTIF('Compras Marzo'!$D$2:$D$4,"Compra Ágil") -> 2 | F15: =COUNTIF('Compras Abril'!$D$2:$D$9,"Compra Ágil") -> 8 | G15: =COUNTIF('Compras Mayo'!$D$2:$D$5,"Compra Ágil") -> 4 | H15: =COUNTIF('Compras Junio'!$D$2:$D$11,"Compra Ágil") -> 6 | I15: =COUNTIF('Compras Julio'!$D$2:$D$5,"Compra Ágil") -> 3 | J15: =COUNTIF('Compras Agosto'!$D$2:$D$11,"Compra Ágil") -> 3 | K15: =COUNTIF('Compras Septiembre'!$D$2:$D$5,"Compra Ágil") -> 2 | O15: =SUM(C15:N15) -> 36
B16: Compras Coordinadas | C16: =COUNTIF('Compras Enero'!$D$2:$D$6,"Compras Coordinadas") -> 0 | D16: =COUNTIF('Compras Febrero'!$D$2:$D$7,"Compras Coordinadas") -> 0 | E16: =COUNTIF('Compras Marzo'!$D$2:$D$4,"Compras Coordinadas") -> 0 | F16: =COUNTIF('Compras Abril'!$D$2:$D$9,"Compras Coordinadas") -> 0 | G16: =COUNTIF('Compras Mayo'!$D$2:$D$5,"Compras Coordinadas") -> 0 | H16: =COUNTIF('Compras Junio'!$D$2:$D$11,"Compras Coordinadas") -> 0 | I16: =COUNTIF('Compras Julio'!$D$2:$D$5,"Compras Coordinadas") -> 0 | J16: =COUNTIF('Compras Agosto'!$D$2:$D$11,"Compras Coordinadas") -> 0 | K16: =COUNTIF('Compras Septiembre'!$D$2:$D$5,"Compras Coordinadas") -> 0 | O16: =SUM(C16:N16) -> 0
B17: Total | C17: =SUM(C12:C16) -> 5 | D17: =SUM(D12:D16) -> 6 | E17: =SUM(E12:E16) -> 3 | F17: =SUM(F12:F16) -> 8 | G17: =SUM(G12:G16) -> 4 | H17: =SUM(H12:H16) -> 10 | I17: =SUM(I12:I16) -> 4 | J17: =SUM(J12:J16) -> 10 | ... O17: =SUM(O12:O16) -> 54 | P17: =+O17-'OC Acumulado'!U68 -> 0
B19: Ordenes de Compra emitidas en MP
B20: Ordenes de Compra | C20: Enero | D20: Febrero | E20: Marzo | F20: Abril | G20: Mayo | H20: Junio | I20: Julio | J20: Agosto | K20: Septiembre | L20: Octubre | M20: Noviembre | N20: Diciembre | O20: Acumulado
B21: Convenio Marco | C21: =SUMIFS('Compras Enero'!$S$2:$S$6,'Compras Enero'!$D$2:$D$6,"Convenio Marco") -> 0 | D21: =SUMIFS('Compras Febrero'!$S$2:$S$7,'Compras Febrero'!$D$2:$D$7,"Convenio Marco") -> 112552 | E21: =SUMIFS('Compras Marzo'!$S$2:$S$4,'Compras Marzo'!$D$2:$D$4,"Convenio Marco") -> 0 | F21: =SUMIFS('Compras Abril'!$S$2:$S$9,'Compras Abril'!$D$2:$D$9,"Convenio Marco") -> 0 | G21: =SUMIFS('Compras Mayo'!$S$2:$S$5,'Compras Mayo'!$D$2:$D$5,"Convenio Marco") -> 0 | H21: =SUMIFS('Compras Junio'!$S$2:$S$11,'Compras Junio'!$D$2:$D$11,"Convenio Marco") -> 186875 | I21: =SUMIFS('Compras Julio'!$S$2:$S$5,'Compras Julio'!$D$2:$D$5,"Convenio Marco") -> 0 | J21: =SUMIFS('Compras Agosto'!$S$2:$S$11,'Compras Agosto'!$D$2:$D$11,"Convenio Marco") -> 647355 | K21: =SUMIFS('Compras Septiembre'!$S$2:$S$5,'Compras Septiembre'!$D$2:$D$5,"Convenio Marco") -> 102960 | O21: =SUM(C21:N21) -> 1049742
B22: Licitaciones | C22: =SUMIFS('Compras Enero'!$S$2:$S$6,'Compras Enero'!$D$2:$D$6,"Licitaciones") -> 0 | D22: =SUMIFS('Compras Febrero'!$S$2:$S$7,'Compras Febrero'!$D$2:$D$7,"Licitaciones") -> 0 | E22: =SUMIFS('Compras Marzo'!$S$2:$S$4,'Compras Marzo'!$D$2:$D$4,"Licitaciones") -> 30000000 | F22: =SUMIFS('Compras Abril'!$S$2:$S$9,'Compras Abril'!$D$2:$D$9,"Licitaciones") -> 0 | G22: =SUMIFS('Compras Mayo'!$S$2:$S$5,'Compras Mayo'!$D$2:$D$5,"Licitaciones") -> 0 | H22: =SUMIFS('Compras Junio'!$S$2:$S$11,'Compras Junio'!$D$2:$D$11,"Licitaciones") -> 66474019 | I22: =SUMIFS('Compras Julio'!$S$2:$S$5,'Compras Julio'!$D$2:$D$5,"Licitaciones") -> 6211800 | J22: =SUMIFS('Compras Agosto'!$S$2:$S$11,'Compras Agosto'!$D$2:$D$11,"Licitaciones") -> 0 | K22: =SUMIFS('Compras Septiembre'!$S$2:$S$5,'Compras Septiembre'!$D$2:$D$5,"Licitaciones") -> 0 | O22: =SUM(C22:N22) -> 1.0268582e+08
B23: Trato Directo | C23: =SUMIFS('Compras Enero'!$S$2:$S$6,'Compras Enero'!$D$2:$D$6,"Trato Directo") -> 0 | D23: =SUMIFS('Compras Febrero'!$S$2:$S$7,'Compras Febrero'!$D$2:$D$7,"Trato Directo") -> 236281700 | E23: =SUMIFS('Compras Marzo'!$S$2:$S$4,'Compras Marzo'!$D$2:$D$4,"Trato Directo") -> 0 | F23: =SUMIFS('Compras Abril'!$S$2:$S$9,'Compras Abril'!$D$2:$D$9,"Trato Directo") -> 0 | G23: =SUMIFS('Compras Mayo'!$S$2:$S$5,'Compras Mayo'!$D$2:$D$5,"Trato Directo") -> 0 | H23: =SUMIFS('Compras Junio'!$S$2:$S$11,'Compras Junio'!$D$2:$D$11,"Trato Directo") -> 4118385.9 | I23: =SUMIFS('Compras Julio'!$S$2:$S$5,'Compras Julio'!$D$2:$D$5,"Trato Directo") -> 0 | J23: =SUMIFS('Compras Agosto'!$S$2:$S$11,'Compras Agosto'!$D$2:$D$11,"Trato Directo") -> 5.3144487e+08 | K23: =SUMIFS('Compras Septiembre'!$S$2:$S$5,'Compras Septiembre'!$D$2:$D$5,"Trato Directo") -> 0 | O23: =SUM(C23:N23) -> 7.7184496e+08
B24: Compra Ágil | C24: =SUMIFS('Compras Enero'!$S$2:$S$6,'Compras Enero'!$D$2:$D$6,"Compra Ágil") -> 4193492.2 | D24: =SUMIFS('Compras Febrero'!$S$2:$S$7,'Compras Febrero'!$D$2:$D$7,"Compra Ágil") -> 3519806 | E24: =SUMIFS('Compras Marzo'!$S$2:$S$4,'Compras Marzo'!$D$2:$D$4,"Compra Ágil") -> 952595 | F24: =SUMIFS('Compras Abril'!$S$2:$S$9,'Compras Abril'!$D$2:$D$9,"Compra Ágil") -> 14815462 | G24: =SUMIFS('Compras Mayo'!$S$2:$S$5,'Compras Mayo'!$D$2:$D$5,"Compra Ágil") -> 3337854.8 | H24: =SUMIFS('Compras Junio'!$S$2:$S$11,'Compras Junio'!$D$2:$D$11,"Compra Ágil") -> 13455171 | I24: =SUMIFS('Compras Julio'!$S$2:$S$5,'Compras Julio'!$D$2:$D$5,"Compra Ágil") -> 2453440.9 | J24: =SUMIFS('Compras Agosto'!$S$2:$S$11,'Compras Agosto'!$D$2:$D$11,"Compra Ágil") -> 1022686 | K24: =SUMIFS('Compras Septiembre'!$S$2:$S$5,'Compras Septiembre'!$D$2:$D$5,"Compra Ágil") -> 3067459 | O24: =SUM(C24:N24) -> 46817966
B25: Compras Coordinadas | C25: =SUMIFS('Compras Enero'!$S$2:$S$6,'Compras Enero'!$D$2:$D$6,"Compras Coordinadas") -> 0 | D25: =SUMIFS('Compras Febrero'!$S$2:$S$7,'Compras Febrero'!$D$2:$D$7,"Compras Coordinadas") -> 0 | E25: =SUMIFS('Compras Marzo'!$S$2:$S$4,'Compras Marzo'!$D$2:$D$4,"Compras Coordinadas") -> 0 | F25: =SUMIFS('Compras Abril'!$S$2:$S$9,'Compras Abril'!$D$2:$D$9,"Compras Coordinadas") -> 0 | G25: =SUMIFS('Compras Mayo'!$S$2:$S$5,'Compras Mayo'!$D$2:$D$5,"Compras Coordinadas") -> 0 | H25: =SUMIFS('Compras Junio'!$S$2:$S$11,'Compras Junio'!$D$2:$D$11,"Compras Coordinadas") -> 0 | I25: =SUMIFS('Compras Julio'!$S$2:$S$5,'Compras Julio'!$D$2:$D$5,"Compras Coordinadas") -> 0 | J25: =SUMIFS('Compras Agosto'!$S$2:$S$11,'Compras Agosto'!$D$2:$D$11,"Compras Coordinadas") -> 0 | K25: =SUMIFS('Compras Septiembre'!$S$2:$S$5,'Compras Septiembre'!$D$2:$D$5,"Compras Coordinadas") -> 0 | O25: =SUM(C25:N25) -> 0
B26: Total | C26: =SUM(C21:C25) -> 4193492.2 | D26: =SUM(D21:D25) -> 239914058 | E26: =SUM(E21:E25) -> 30952595 | F26: =SUM(F21:F25) -> 14815462 | G26: =SUM(G21:G25) -> 3337854.8 | H26: =SUM(H21:H25) -> 84234450 | I26: =SUM(I21:I25) -> 8665240.8 | J26: =SUM(J21:J25) -> 5.3311491e+08 | ... N26: =SUM(N21:N25) -> 0 | O26: =SUM(C26:N26) -> 9.2239849e+08 | P26: =+O26-'OC Acumulado'!U67 -> 0
C27: =+'Compras Enero'!S7 -> 4193492.2 | D27: =+'Compras Febrero'!S8 -> 239914058 | E27: =+'Compras Marzo'!S5 -> 30952595 | F27: =+'Compras Abril'!S10 -> 14815462 | G27: =+'Compras Mayo'!S6 -> 3337854.8 | H27: =+'Compras Junio'!S12 -> 84234450 | I27: =+'Compras Julio'!S6 -> 8665240.8 | J27: =+'Compras Agosto'!S12 -> 5.3311491e+08 | K27: =+'Compras Septiembre'!S6 -> 3170419 | O27: =+'OC Acumulado'!S67 -> 9.2239849e+08
B29: Ejecución Presupuestaria (En M$) | C29: Enero | D29: Febrero | E29: Marzo | F29: Abril | G29: Mayo | H29: Junio | I29: Julio | J29: Agosto | K29: Septiembre | L29: Octubre | M29: Noviembre | N29: Diciembre | O29: Acumulado
B30: Ejecución Mensual | C30: 691050 | D30: 681966 | E30: 1061182 | F30: 688258 | G30: 674743 | H30: 746969 | I30: 618801 | J30: 727989 | K30: 716759 | O30: =SUM(C30:N30) -> 6607717
B31: Ejecución Acumulada | C31: =+C30 -> 691050 | D31: =+D30+C31 -> 1373016 | E31: =+E30+D31 -> 2434198 | F31: =+F30+E31 -> 3122456 | G31: =+G30+F31 -> 3797199 | H31: =+H30+G31 -> 4544168 | I31: =+I30+H31 -> 5162969 | J31: =+J30+I31 -> 5890958 | K31: =+K30+J31 -> 6607717 | O31: =MAX(C31:N31) -> 6607717
B32: % Ejecución acumulada | C32: =C31/$C$47 -> 0.080957673 | D32: =D31/$C$47 -> 0.16085114 | E32: =E31/$C$47 -> 0.2851704 | F32: =F31/$C$47 -> 0.36580099 | G32: =G31/$C$47 -> 0.44484827 | H32: =H31/$C$47 -> 0.53235694 | I32: =I31/$C$47 -> 0.60485052 | J32: =J31/$C$47 -> 0.69013566 | K32: =K31/$C$47 -> 0.77410519
B34: Ejecución (En M$) | C34: Enero | D34: Febrero | E34: Marzo | F34: Abril | G34: Mayo | H34: Junio | I34: Julio | J34: Agosto | K34: Septiembre | L34: Octubre | M34: Noviembre | N34: Diciembre | O34: Acumulado
B35: Subtítulo 21 | C35: 526896 | D35: 566206 | E35: 785533 | F35: 571865 | G35: 562572 | H35: 619400 | I35: 558700 | J35: 560992 | K35: 608633 | O35: =SUM(C35:N35) -> 5360797
B36: Subtítulo 22 | C36: 102162 | D36: 103103 | E36: 124944 | F36: 109060 | G36: 103394 | H36: 81528 | I36: 47547 | J36: 162362 | K36: 102581 | O36: =SUM(C36:N36) -> 936681
B37: Subtítulo 23 | C37: 34798 | D37: 0 | E37: 1775 | F37: 0 | G37: 0 | H37: 34033 | I37: 0 | J37: 0 | K37: 0 | O37: =SUM(C37:N37) -> 70606
B38: Subtítulo 26 | C38: 0 | D38: 9150 | E38: 0 | F38: 0 | G38: 0 | H38: 0 | I38: 5412 | J38: 2600 | K38: 0 | O38: =SUM(C38:N38) -> 17162
B39: Subtítulo 29 | C39: 27194 | D39: 3507 | E39: 148930 | F39: 7333 | G39: 8777 | H39: 12008 | I39: 7142 | J39: 2035 | K39: 5545 | O39: =SUM(C39:N39) -> 222471
B40: Ejecución Mensual | C40: =SUM(C35:C39) -> 691050 | D40: =SUM(D35:D39) -> 681966 | E40: =SUM(E35:E39) -> 1061182 | F40: =SUM(F35:F39) -> 688258 | G40: =SUM(G35:G39) -> 674743 | H40: =SUM(H35:H39) -> 746969 | I40: =SUM(I35:I39) -> 618801 | J40: =SUM(J35:J39) -> 727989 | ... O40: =SUM(O35:O39) -> 6607717
B43: Presupuesto Res.488 | C43: 8765234 | O43: =+K31-O40 -> 0
B44: Mod. Res.122 | C44: 33665 | I44: 8254283 | J44: lineal
B45: Decreto Hacienda | C45: -262957 | I45: =+#REF!/I44 -> #REF! | J45: 0.41666667
B47: Presupuesto Total | C47: =+C43+C44+C45+C46 -> 8535942 | E47: =+C47-O31 -> 1928225 | I47: =+O40/C47 -> 0.77410519 | K47: =+K30-K40 -> 0
I49: =7/12 -> 0.58333333

Sheet PPTO HISTORICO
B4: HISTORICO PPTO Y EJECUCION | C4: 2009 | D4: 2010 | E4: 2011 | F4: 2012 | G4: 2013 | H4: 2014 | I4: 2015 | J4: 2016 | K4: 2017 | L4: 2018 | M4: 2019 | N4: 2020 | O4: 2021 | P4: 2022 | Q4: 2023 | R4: 2024 | S4: 2025 | T4: 2026
B5: Presupuesto anual aprobado | C5: 1733465 | D5: 2783210 | E5: 3250968 | F5: 3496019 | G5: 4452621 | H5: 4606752 | I5: 5359186 | J5: 5887514 | K5: 6374664 | L5: 6614337 | M5: 7009718 | N5: 7402521 | O5: 6781495 | P5: 7079881 | Q5: 7713078 | R5: 8133235 | S5: 8585478 | T5: =+Reporte!C43 -> 8765234
B6: Incorporaciones | C6: 309441 | D6: 209162 | E6: 449264 | F6: 364571 | G6: 715407 | H6: 433379 | I6: 309791 | J6: 267114 | K6: 180349 | L6: 231703 | M6: 216029 | N6: 0 | O6: 236812 | P6: 285770 | Q6: =36174+82418+65000 -> 183592 | R6: =121048+71549 -> 192597 | S6: 84874 | T6: 33665
B7: Reducciones | R7: 0 | S7: -128782 | T7: -262957
B8: Presupuesto total | C8: =SUM(C5:C6) -> 2042906 | D8: =SUM(D5:D6) -> 2992372 | E8: =SUM(E5:E6) -> 3700232 | F8: =SUM(F5:F6) -> 3860590 | G8: =SUM(G5:G6) -> 5168028 | H8: =SUM(H5:H6) -> 5040131 | I8: =SUM(I5:I6) -> 5668977 | J8: =SUM(J5:J6) -> 6154628 | ... Q8: =SUM(Q5:Q6) -> 7896670 | R8: =SUM(R5:R7) -> 8325832 | S8: =SUM(S5:S7) -> 8541570 | T8: =SUM(T5:T7) -> 8535942
B9: Presupuesto ejecutado | C9: 2041494.3 | D9: 2991446.9 | E9: 3654758.6 | F9: 3825343 | G9: 5130336 | H9: 5020917 | I9: 5604211 | J9: 6105912 | K9: 6478883 | L9: 6764567 | M9: 7172308.9 | N9: 7271632.6 | O9: 7017561 | P9: =(MAX(C29:N29)) -> 7364890 | Q9: =MAX(C35:N35) -> 7896647.6 | R9: =MAX(C41:N41) -> 8325820 | S9: =MAX($C$46:$N$46) -> 8541438 | T9: =MAX($C$51:$N$51) -> 6607717
B10: % de ejecución (sobre presupuesto total) | C10: =+C9/C8 -> 0.99930897 | D10: =+D9/D8 -> 0.99969085 | E10: =+E9/E8 -> 0.98771067 | F10: =+F9/F8 -> 0.99087005 | G10: =+G9/G8 -> 0.9927067 | H10: =+H9/H8 -> 0.9961878 | I10: =+I9/I8 -> 0.98857536 | J10: =+J9/J8 -> 0.99208466 | ... N10: =+N9/N8 -> 0.9823184 | O10: =O9/O8 -> 0.99989371 | P10: =P9/P8 -> 0.99989668 | Q10: =Q9/Q8 -> 0.99999716 | R10: =R9/R8 -> 0.99999856 | S10: =S9/S8 -> 0.99998455 | T10: =T9/T8 -> 0.77410519
B14: 2020 | C14: Enero | D14: Febrero | E14: Marzo | F14: Abril | G14: Mayo | H14: Junio | I14: Julio | J14: Agosto | K14: Septiembre | L14: Octubre | M14: Noviembre | N14: Diciembre
B15: Presupuesto ejecutado en el mes | C15: 566586.02 | D15: 489827.82 | E15: 652175.33 | F15: 544623.17 | G15: 575664.22 | H15: 589136.11 | I15: 530939.16 | J15: 510910.41 | K15: 646101.6 | L15: 568122.48 | M15: 587323.28 | N15: 1010223
B16: Presupuesto ejecutado acumulada | C16: =+C15 -> 566586.02 | D16: =+D15+C16 -> 1056413.8 | E16: =+E15+D16 -> 1708589.2 | F16: =+F15+E16 -> 2253212.3 | G16: =+G15+F16 -> 2828876.6 | H16: =+H15+G16 -> 3418012.7 | I16: =+I15+H16 -> 3948951.8 | J16: =+J15+I16 -> 4459862.2 | K16: =+K15+J16 -> 5105963.8 | ... N16: =+N15+M16 -> 7271632.6
B17: % de ejecución presupuestaria | C17: =+C16/$N$8 -> 0.076539604 | D17: =+D16/$N$8 -> 0.14271001 | E17: =+E16/$N$8 -> 0.2308118 | F17: =+F16/$N$8 -> 0.30438446 | G17: =+G16/$N$8 -> 0.38215043 | H17: =+H16/$N$8 -> 0.4617363 | I17: =+I16/$N$8 -> 0.5334604 | J17: =+J16/$N$8 -> 0.60247884 | ... N17: =+N16/$N$8 -> 0.9823184
B21: 2021 | C21: Enero | D21: Febrero | E21: Marzo | F21: Abril | G21: Mayo | H21: Junio | I21: Julio | J21: Agosto | K21: Septiembre | L21: Octubre | M21: Noviembre | N21: Diciembre
B22: Presupuesto ejecutado en el mes | C22: 489366 | D22: 550815 | E22: 657444 | F22: 688402 | G22: 540628.56 | H22: 565382.67 | I22: 568187 | J22: 550699 | K22: 600560 | L22: 554141 | M22: 546223 | N22: 705713
B23: Presupuesto ejecutado acumulada | C23: =+C22 -> 489366 | D23: =+D22+C23 -> 1040181 | E23: =+E22+D23 -> 1697625 | F23: =+F22+E23 -> 2386027 | G23: =+G22+F23 -> 2926655.6 | H23: =+H22+G23 -> 3492038.2 | I23: =+I22+H23 -> 4060225.2 | J23: =+J22+I23 -> 4610924.2 | K23: =+K22+J23 -> 5211484.2 | ... N23: =+N22+M23 -> 7017561.2
B24: % de ejecución presupuestaria | C24: =+C23/$O$8 -> 0.069727072 | D24: =+D23/$O$8 -> 0.14820968 | E24: =+E23/$O$8 -> 0.24188526 | F24: =+F23/$O$8 -> 0.33997188 | G24: =+G23/$O$8 -> 0.41700307 | H24: =+H23/$O$8 -> 0.49756134 | I24: =+I23/$O$8 -> 0.57851918 | J24: =+J23/$O$8 -> 0.65698526 | ... N24: =+N23/$O$8 -> 0.99989374
B27: 2022 | C27: Enero | D27: Febrero | E27: Marzo | F27: Abril | G27: Mayo | H27: Junio | I27: Julio | J27: Agosto | K27: Septiembre | L27: Octubre | M27: Noviembre | N27: Diciembre
B28: Presupuesto ejecutado en el mes | C28: 543935 | D28: 641993 | E28: 885481 | F28: 533801 | G28: 570468 | H28: 655466 | I28: 604829 | J28: 536046 | K28: 591148 | L28: 529202 | M28: 551393 | N28: 721128
B29: Presupuesto ejecutado acumulada | C29: =+C28 -> 543935 | D29: =+D28+C29 -> 1185928 | E29: =+E28+D29 -> 2071409 | F29: =+F28+E29 -> 2605210 | G29: =+G28+F29 -> 3175678 | H29: =+H28+G29 -> 3831144 | I29: =+I28+H29 -> 4435973 | J29: =+J28+I29 -> 4972019 | K29: =+K28+J29 -> 5563167 | ... N29: =+N28+M29 -> 7364890
B30: % de ejecución presupuestaria | C30: =+C29/$P$8 -> 0.073847512 | D30: =+D29/$P$8 -> 0.1610079 | E30: =+E29/$P$8 -> 0.28122552 | F30: =+F29/$P$8 -> 0.35369718 | G30: =+G29/$P$8 -> 0.43114695 | H30: =+H29/$P$8 -> 0.52013651 | I30: =+I29/$P$8 -> 0.60225131 | J30: =+J29/$P$8 -> 0.67502777 | ... N30: =+N29/$P$8 -> 0.99989668
B33: 2023 | C33: Enero | D33: Febrero | E33: Marzo | F33: Abril | G33: Mayo | H33: Junio | I33: Julio | J33: Agosto | K33: Septiembre | L33: Octubre | M33: Noviembre | N33: Diciembre
B34: Presupuesto ejecutado en el mes | C34: =588356+36174 -> 624530 | D34: 577811 | E34: 861046 | F34: 652187 | G34: 648536.4 | H34: 627436 | I34: 565222.2 | J34: 585319 | K34: 644939 | L34: 662820 | M34: 673087 | N34: 773714
B35: Presupuesto ejecutado acumulada | C35: =+C34 -> 624530 | D35: =+D34+C35 -> 1202341 | E35: =+E34+D35 -> 2063387 | F35: =+F34+E35 -> 2715574 | G35: =+G34+F35 -> 3364110.4 | H35: =+H34+G35 -> 3991546.4 | I35: =+I34+H35 -> 4556768.6 | J35: =+J34+I35 -> 5142087.6 | K35: =+K34+J35 -> 5787026.6 | ... N35: =+N34+M35 -> 7896647.6
B36: % de ejecución presupuestaria | C36: =+C35/$Q$8 -> 0.079087767 | D36: =+D35/$Q$8 -> 0.15225924 | E36: =+E35/$Q$8 -> 0.26129837 | F36: =+F35/$Q$8 -> 0.3438885 | G36: =+G35/$Q$8 -> 0.42601633 | H36: =+H35/$Q$8 -> 0.5054721 | I36: =+I35/$Q$8 -> 0.57704939 | J36: =+J35/$Q$8 -> 0.65117165 | ... N36: =+N35/$Q$8 -> 0.99999716
B39: 2024 | C39: Enero | D39: Febrero | E39: Marzo | F39: Abril | G39: Mayo | H39: Junio | I39: Julio | J39: Agosto | K39: Septiembre | L39: Octubre | M39: Noviembre | N39: Diciembre
B40: Presupuesto ejecutado en el mes | C40: 601830 | D40: 668091 | E40: 924883 | F40: 692684 | G40: 667927 | H40: 652729 | I40: 669573 | J40: 680461 | K40: 684551 | L40: 655911 | M40: 640472 | N40: 786708
B41: Presupuesto ejecutado acumulada | C41: =+C40 -> 601830 | D41: =+D40+C41 -> 1269921 | E41: =+E40+D41 -> 2194804 | F41: =+F40+E41 -> 2887488 | G41: =+G40+F41 -> 3555415 | H41: =+H40+G41 -> 4208144 | I41: =+I40+H41 -> 4877717 | J41: =+J40+I41 -> 5558178 | K41: =+K40+J41 -> 6242729 | ... N41: =+N40+M41 -> 8325820
B42: % de ejecución presupuestaria | C42: =+C41/$R$8 -> 0.072284668 | D42: =+D41/$R$8 -> 0.15252782 | E42: =+E41/$R$8 -> 0.26361377 | F42: =+F41/$R$8 -> 0.34681075 | G42: =+G41/$R$8 -> 0.4270342 | H42: =+H41/$R$8 -> 0.50543225 | I42: =+I41/$R$8 -> 0.5858534 | J42: =+J41/$R$8 -> 0.66758229 | ... N42: =+N41/$R$8 -> 0.99999856
B44: 2025 | C44: Enero | D44: Febrero | E44: Marzo | F44: Abril | G44: Mayo | H44: Junio | I44: Julio | J44: Agosto | K44: Septiembre | L44: Octubre | M44: Noviembre | N44: Diciembre
B45: Presupuesto ejecutado en el mes | C45: 718019 | D45: 632607 | E45: 1002916 | F45: 663679 | G45: 658663 | H45: 687523 | I45: 667106 | J45: 695341 | K45: 705449 | L45: 701936 | M45: 674797 | N45: 733402
B46: Presupuesto ejecutado acumulada | C46: =+C45 -> 718019 | D46: =+D45+C46 -> 1350626 | E46: =+E45+D46 -> 2353542 | F46: =+F45+E46 -> 3017221 | G46: =+G45+F46 -> 3675884 | H46: =+H45+G46 -> 4363407 | I46: =+I45+H46 -> 5030513 | J46: =+J45+I46 -> 5725854 | K46: =+K45+J46 -> 6431303 | ... N46: =+N45+M46 -> 8541438
B47: % de ejecución presupuestaria | C47: =+C46/S8 -> 0.084061712 | D47: =+D46/$S$8 -> 0.15812386 | E47: =+E46/$S$8 -> 0.27553974 | F47: =+F46/$S$8 -> 0.35323963 | G47: =+G46/$S$8 -> 0.43035227 | H47: =+H46/$S$8 -> 0.51084367 | I47: =+I46/$S$8 -> 0.58894477 | J47: =+J46/$S$8 -> 0.67035147 | K47: =+K46/$S$8 -> 0.75294156 | ... N47: =+N46/$S$8 -> 0.99998455
B49: 2026 | C49: Enero | D49: Febrero | E49: Marzo | F49: Abril | G49: Mayo | H49: Junio | I49: Julio | J49: Agosto | K49: Septiembre | L49: Octubre | M49: Noviembre | N49: Diciembre
B50: Presupuesto ejecutado en el mes | C50: 691050 | D50: 681966 | E50: 1061182 | F50: 688258 | G50: 674743 | H50: 746969 | I50: 618801 | J50: 727989 | K50: 716759 | L50: 0 | M50: 0 | N50: 0
B51: Presupuesto ejecutado acumulada | C51: =+C50 -> 691050 | D51: =+D50+C51 -> 1373016 | E51: =+E50+D51 -> 2434198 | F51: =+F50+E51 -> 3122456 | G51: =+G50+F51 -> 3797199 | H51: =+H50+G51 -> 4544168 | I51: =+I50+H51 -> 5162969 | J51: =+J50+I51 -> 5890958 | K51: =+K50+J51 -> 6607717 | ... N51: =+N50+M51 -> 6607717
B52: % de ejecución presupuestaria | C52: =+C51/$T$8 -> 0.080957673 | D52: =+D51/$T$8 -> 0.16085114 | E52: =+E51/$T$8 -> 0.2851704 | F52: =+F51/$T$8 -> 0.36580099 | G52: =+G51/$T$8 -> 0.44484827 | H52: =+H51/$T$8 -> 0.53235694 | I52: =+I51/$T$8 -> 0.60485052 | J52: =+J51/$T$8 -> 0.69013566 | ... N52: =+N51/$T$8 -> 0.77410519

Sheet OC Acumulado
B2: N° orden de compra | C2: Nombre de la OC | D2: Tipo de compra | E2: Estado OC | F2: Unidad compradora | G2: Nombre Proveedor | H2: RUT Proveedor | I2: Fecha de creación OC | J2: Fecha envió de OC | K2: Monto neto | L2: Descuentos | M2: Cargos | N2: I.V.A | O2: Impuesto Específico | P2: Total OC | Q2: Tipo Moneda | R2: Monto Tipo de cambio | S2: Total OC en $ | T2: Licitación Publicada en Lobby
B3: 5752-5-AG26 | C3: Servicio de Coffee Break en la ciudad de Coyhaique. | D3: Compra Ágil | E3: Aceptada | F3: Consejo para la Transparencia | G3: BEATRIZ SOLEDAD CUBILLA WANDERSLEBEN | H3: 18.470.403-k | I3: 46049.692 | J3: 46049.697 | K3: 252101 | L3: 0 | M3: 0 | N3: 47899.19 | O3: 0 | P3: 300000.19 | Q3: $ | R3: $ | S3: =+P3 -> 300000.19 | T3: N/A
B4: 5752-4-AG26 | C4: Plan Equipo Premier de Survey Monkey. | D4: Compra Ágil | E4: Aceptada | F4: Consejo para la Transparencia | G4: FLEX SSS SPA | H4: 76.992.701-8 | I4: 46045.482 | J4: 46045.487 | K4: 1316842 | L4: 0 | M4: 0 | N4: 250199.98 | O4: 0 | P4: 1567042 | Q4: $ | R4: $ | S4: =+P4 -> 1567042 | T4: N/A
B5: 5752-3-AG26 | C5: Servicio de impresión de cartilla para el Consejo para la Transparencia. | D5: Compra Ágil | E5: Aceptada | F5: Consejo para la Transparencia | G5: IMPRENTA LICANRAY LIMITADA | H5: 79.779.390-6 | I5: 46038.688 | J5: 46038.709 | K5: 1020000 | L5: 0 | M5: 0 | N5: 193800 | O5: 0 | P5: 1213800 | Q5: $ | R5: $ | S5: =+P5 -> 1213800 | T5: N/A
B6: 5752-2-AG26 | C6: Servicio de Coffee Break en Antofagasta y en Mejillones. | D6: Compra Ágil | E6: Aceptada | F6: Consejo para la Transparencia | G6: LAV SPA | H6: 76.909.956-5 | I6: 46038.669 | J6: 46038.701 | K6: 415000 | L6: 0 | M6: 0 | N6: 78850 | O6: 0 | P6: 493850 | Q6: $ | R6: $ | S6: =+P6 -> 493850 | T6: N/A
B7: 5752-1-AG26 | C7: Servicio de Coffee Break en la ciudad de Iquique | D7: Compra Ágil | E7: Aceptada | F7: Consejo para la Transparencia | G7: YANKO CARLOS BURGOS ARIAS | H7: 9.464.405-4 | I7: 46031.683 | J7: 46031.691 | K7: 520000 | L7: 0 | M7: 0 | N7: 98800 | O7: 0 | P7: 618800 | Q7: $ | R7: $ | S7: =+P7 -> 618800 | T7: N/A
B8: Sumatoria Enero | D8: =COUNTA(D3:D7) -> 5 | S8: =SUM(S3:S7) -> 4193492.2
B9: 5752-11-AG26 | C9: Confección e instalación cortinas Roller blackout para oficinas del CPLT. | D9: Compra Ágil | E9: Aceptada | F9: Consejo para la Transparencia | G9: CORTINAS ROLLER PRO SPA | H9: 76.790.387-1 | I9: 46072.55 | J9: 46072.58 | K9: 1206320 | L9: 0 | M9: 0 | N9: 229200.8 | O9: 0 | P9: 1435521 | Q9: $ | R9: $ | S9: =+P9 -> 1435521 | T9: N/A
B10: 5752-10-AG26 | C10: Remodelación Cierre oficinas con panel vidriado CPLT. | D10: Compra Ágil | E10: Aceptada | F10: Consejo para la Transparencia | G10: REXCON CONSTRUCTORA SPA | H10: 78.090.792-4 | I10: 46070.458 | J10: 46070.465 | K10: 1294000 | L10: 0 | M10: 0 | N10: 245860 | O10: 0 | P10: 1539860 | Q10: $ | R10: $ | S10: =+P10 -> 1539860 | T10: N/A
B11: 5752-9-CM26 | C11: Pasaje Sr. Egon Montecinos Santiago - Temuco. | D11: Convenio Marco | E11: Aceptada | F11: Consejo para la Transparencia | G11: LATAM AIRLINES GROUP S.A. | H11: 89.862.200-2 | I11: 46070.418 | J11: 46070.447 | K11: 53191 | L11: 0 | M11: 7814 | N11: 0 | O11: 0 | P11: 61005 | Q11: $ | R11: $ | S11: =+P11 -> 61005 | T11: N/A
B12: 5752-8-CM26 | C12: Pasajes Sr. Egon Montecinos Valdivia - Santiago. | D12: Convenio Marco | E12: Aceptada | F12: Consejo para la Transparencia | G12: LATAM AIRLINES GROUP S.A. | H12: 89.862.200-2 | I12: 46070.415 | J12: 46070.447 | K12: 45591 | L12: 0 | M12: 5956 | N12: 0 | O12: 0 | P12: 51547 | Q12: $ | R12: $ | S12: =+P12 -> 51547 | T12: N/A
B13: 5752-7-AG26 | C13: Porta credenciales y bolsas para Seminario Consejo para la Transparencia. | D13: Compra Ágil | E13: Aceptada | F13: Consejo para la Transparencia | G13: OBSEKIOS PROMOCIONALES SPA | H13: 77.669.338-3 | I13: 46065.396 | J13: 46065.517 | K13: 457500 | L13: 0 | M13: 0 | N13: 86925 | O13: 0 | P13: 544425 | Q13: $ | R13: $ | S13: =+P13 -> 544425 | T13: N/A
B14: 5752-6-SE26 | C14: Plataforma Tecnológica, operación, soporte y mant. | D14: Trato Directo | E14: Aceptada | F14: Consejo para la Transparencia | G14: GUADALTEL CHILE SERVICIOS DE INFORMACION SPA | H14: 76.108.701-0 | I14: 46055.545 | J14: 46055.571 | K14: 198556050 | L14: 0 | M14: 0 | N14: 37725650 | O14: 0 | P14: 236281700 | Q14: $ | R14: $ | S14: =+P14 -> 236281700 | T14: N/A
B15: Sumatoria Febrero | D15: =COUNTA(D9:D14) -> 6 | S15: =SUM(S9:S14) -> 239914058
B16: 5752-14-SE26 | C16: Suministro de pasajes aéreos internacionales | D16: Licitaciones | E16: Aceptada | F16: Consejo para la Transparencia | G16: TRAVEL SECURITY S.A. | H16: 85.633.900-9 | I16: 46104.441 | J16: 46104.474 | K16: 25210084 | L16: 0 | M16: 0 | N16: 4789916 | O16: 0 | P16: 30000000 | Q16: $ | R16: $ | S16: =+P16 -> 30000000 | T16: Publicada
B17: 5752-13-AG26 | C17: Servicio de impresión de guías para el Consejo para la Transparencia. | D17: Compra Ágil | E17: Aceptada | F17: Consejo para la Transparencia | G17: CREATIVA IMPRESA SPA | H17: 76.766.791-4 | I17: 46093.477 | J17: 46093.492 | K17: 384000 | L17: 0 | M17: 0 | N17: 72960 | O17: 0 | P17: 456960 | Q17: $ | R17: $ | S17: =+P17 -> 456960 | T17: N/A
B18: 5752-12-AG26 | C18: Servicio de empavonado en paneles vidriados. | D18: Compra Ágil | E18: Aceptada | F18: Consejo para la Transparencia | G18: COMERCIAL OC SPA | H18: 77.649.488-7 | I18: 46085.541 | J18: 46085.551 | K18: 416500 | L18: 0 | M18: 0 | N18: 79135 | O18: 0 | P18: 495635 | Q18: $ | R18: $ | S18: =+P18 -> 495635 | T18: N/A
B19: Sumatoria Marzo | D19: =COUNTA(D16:D18) -> 3 | S19: =SUM(S16:S18) -> 30952595
B20: 5752-23-AG26 | C20: Examen detección consumo de drogas. | D20: Compra Ágil | E20: Aceptada | F20: Consejo para la Transparencia | G20: UNIVERSIDAD DE CHILE | H20: 60.910.000-1 | I20: 46139.46 | J20: 46139.468 | K20: 3960000 | L20: 0 | M20: 0 | N20: 0 | O20: 0 | P20: 3960000 | Q20: $ | R20: $ | S20: =+P20 -> 3960000 | T20: N/A
B21: 5752-22-AG26 | C21: Suscripción Licencias Chat GPT open AI, Créditos API Chat GPT. | D21: Compra Ágil | E21: Aceptada | F21: Consejo para la Transparencia | G21: FLEX SSS SPA | H21: 76.992.701-8 | I21: 46139.402 | J21: 46139.412 | K21: 1597474 | L21: 0 | M21: 0 | N21: 303520.06 | O21: 0 | P21: 1900994.1 | Q21: $ | R21: $ | S21: =+P21 -> 1900994.1 | T21: N/A
B22: 5752-21-AG26 | C22: Suscripción Licencias Claude AI Pro para el CPLT. | D22: Compra Ágil | E22: Aceptada | F22: Consejo para la Transparencia | G22: FLEX SSS SPA | H22: 76.992.701-8 | I22: 46135.686 | J22: 46135.693 | K22: 2173138 | L22: 0 | M22: 0 | N22: 412896.22 | O22: 0 | P22: 2586034.2 | Q22: $ | R22: $ | S22: =+P22 -> 2586034.2 | T22: N/A
B23: 5752-20-AG26 | C23: Lectores códigos de barra para el CPLT. | D23: Compra Ágil | E23: Aceptada | F23: Consejo para la Transparencia | G23: ENGINEER, PROJECT AND INNOVATION SPA | H23: 78.095.722-0 | I23: 46121.505 | J23: 46121.529 | K23: 572666 | L23: 0 | M23: 25000 | N23: 113556.54 | O23: 0 | P23: 711222.54 | Q23: $ | R23: $ | S23: =+P23 -> 711222.54 | T23: N/A
B24: 5752-19-AG26 | C24: Servicio de Coffee break en la ciudad de San Felipe . | D24: Compra Ágil | E24: Aceptada | F24: Consejo para la Transparencia | G24: LA GOLOSA SPA | H24: 77.904.157-3 | I24: 46120.644 | J24: 46120.663 | K24: 546219 | L24: 0 | M24: 0 | N24: 103781.61 | O24: 0 | P24: 650000.61 | Q24: $ | R24: $ | S24: =+P24 -> 650000.61 | T24: N/A
B25: 5752-18-AG26 | C25: Servicio de impresión de compendios para el Consejo para la Transparencia. | D25: Compra Ágil | E25: Aceptada | F25: Consejo para la Transparencia | G25: A IMPRESORES S.A. | H25: 96.830.710-k | I25: 46118.721 | J25: 46118.726 | K25: 705740 | L25: 0 | M25: 0 | N25: 134090.6 | O25: 0 | P25: 839830.6 | Q25: $ | R25: $ | S25: =+P25 -> 839830.6 | T25: N/A
B26: 5752-16-AG26 | C26: Servicio de alojamiento y servicios de alimentación. | D26: Compra Ágil | E26: Aceptada | F26: Consejo para la Transparencia | G26: C.G. DEMERCADO SPA | H26: 76.432.389-0 | I26: 46114.517 | J26: 46114.559 | K26: 702000 | L26: 0 | M26: 0 | N26: 133380 | O26: 0 | P26: 835380 | Q26: $ | R26: $ | S26: =+P26 -> 835380 | T26: N/A
B27: 5752-15-AG26 | C27: Servicio de Coffee break en la ciudad de Santiago | D27: Compra Ágil | E27: Aceptada | F27: Consejo para la Transparencia | G27: ANDREA CAROLINA VIDAL MATUS | H27: 16.175.345-9 | I27: 46114.514 | J27: 46114.546 | K27: 2800000 | L27: 0 | M27: 0 | N27: 532000 | O27: 0 | P27: 3332000 | Q27: $ | R27: $ | S27: =+P27 -> 3332000 | T27: N/A
B28: Sumatoria Abril | D28: =COUNTA(D20:D27) -> 8 | S28: =SUM(S20:S27) -> 14815462
B29: 5752-27-AG26 | C29: Renovación de 2 licencias Tableau Creator | D29: Compra Ágil | E29: Aceptada | F29: Consejo para la Transparencia | G29: TELECOSUR SPA | H29: 77.757.727-1 | I29: 46167.514 | J29: 46167.534 | K29: 1399720 | L29: 0 | M29: 0 | N29: 265946.8 | O29: 0 | P29: 1665666.8 | Q29: $ | R29: $ | S29: =+P29 -> 1665666.8 | T29: N/A
B30: 5752-26-AG26 | C30: Adquisición de Insumos de oficina y aseo | D30: Compra Ágil | E30: Aceptada | F30: Consejo para la Transparencia | G30: COMERCIAL FASIT LIMITADA | H30: 76.607.224-0 | I30: 46156.399 | J30: 46156.416 | K30: 619400 | L30: 0 | M30: 0 | N30: 117686 | O30: 0 | P30: 737086 | Q30: $ | R30: $ | S30: =+P30 -> 737086 | T30: N/A
B31: 5752-25-AG26 | C31: Servicio de desinstalación e instalación de puerta de vidrio templado | D31: Compra Ágil | E31: Aceptada | F31: Consejo para la Transparencia | G31: GASFERVEN SPA | H31: 77.288.459-1 | I31: 46154.697 | J31: 46154.718 | K31: 265000 | L31: 0 | M31: 0 | N31: 50350 | O31: 0 | P31: 315350 | Q31: $ | R31: $ | S31: =+P31 -> 315350 | T31: N/A
B32: 5752-24-AG26 | C32: Normas Chilenas ISO | D32: Compra Ágil | E32: Aceptada | F32: Consejo para la Transparencia | G32: INSTITUTO NACIONAL DE NORMALIZACION | H32: 70.049.100-5 | I32: 46146.696 | J32: 46146.705 | K32: 520800 | L32: 0 | M32: 0 | N32: 98952 | O32: 0 | P32: 619752 | Q32: $ | R32: $ | S32: =+P32 -> 619752 | T32: N/A
B33: Sumatoria Mayo | D33: =COUNTA(D29:D32) -> 4 | S33: =SUM(S29:S32) -> 3337854.8
B34: 5752-38-SE26 | C34: Renovación de Licencias de Ofimáticas para el Consejo para la Transparencia | D34: Licitaciones | E34: Enviada al proveedor | F34: Consejo para la Transparencia | G34: CLARO CHILE SPA | H34: 96.799.250-k | I34: 46199.635 | J34: 46199.655 | K34: 30650436 | L34: 0 | M34: 0 | N34: 5823582.8 | O34: 0 | P34: 36474019 | Q34: $ | R34: $ | S34: =+P34 -> 36474019 | T34: Publicada
B35: 5752-37-AG26 | C35: Campaña Comunicacional Concurso Escolar | D35: Compra Ágil | E35: Aceptada | F35: Consejo para la Transparencia | G35: SERVICIOS AUDIOVISUALES SOFAN SPA | H35: 77.150.876-6 | I35: 46198.396 | J35: 46198.432 | K35: 5042017 | L35: 0 | M35: 0 | N35: 957983.23 | O35: 0 | P35: 6000000.2 | Q35: $ | R35: $ | S35: =+P35 -> 6000000.2 | T35: N/A
B36: 5752-36-SE26 | C36: Plataforma Tecnológica, operación, soporte y mant. | D36: Trato Directo | E36: Aceptada | F36: Consejo para la Transparencia | G36: GUADALTEL CHILE SERVICIOS DE INFORMACION SPA | H36: 76.108.701-0 | I36: 46197.401 | J36: 46197.418 | K36: 3460828.5 | L36: 0 | M36: 0 | N36: 657557.42 | O36: 0 | P36: 4118385.9 | Q36: $ | R36: $ | S36: =+P36 -> 4118385.9 | T36: N/A
B37: 5752-35-SE26 | C37: Mantención, soporte técnico y mejoras de la plataf | D37: Licitaciones | E37: Aceptada | F37: Consejo para la Transparencia | G37: MS PROYECTOS SPA | H37: 76.149.807-k | I37: 46195.377 | J37: 46195.381 | K37: 25210084 | L37: 0 | M37: 0 | N37: 4789916 | O37: 0 | P37: 30000000 | Q37: $ | R37: $ | S37: =+P37 -> 30000000 | T37: Publicada
B38: 5752-33-AG26 | C38: Arriendo 3 Escáner Seminuevos para el CPLT. | D38: Compra Ágil | E38: Aceptada | F38: Consejo para la Transparencia | G38: INTEGRACION DE SOLUCIONES LIMITADA | H38: 76.128.275-1 | I38: 46192.513 | J38: 46192.524 | K38: 4329807 | L38: 0 | M38: 0 | N38: 822663.33 | O38: 0 | P38: 5152470.3 | Q38: $ | R38: $ | S38: =+P38 -> 5152470.3 | T38: N/A
B39: 5752-32-AG26 | C39: Servicio de Catering en la ciudad de Santiago | D39: Compra Ágil | E39: Aceptada | F39: Consejo para la Transparencia | G39: VIVIAN ANGELICA DEL PILAR DE LA FUENTE ALACID | H39: 13.104.370-8 | I39: 46185.458 | J39: 46185.487 | K39: 400000 | L39: 0 | M39: 0 | N39: 76000 | O39: 0 | P39: 476000 | Q39: $ | R39: $ | S39: =+P39 -> 476000 | T39: N/A
B40: 5752-31-CM26 | C40: Compra de pasajes ida y vuelta nacional Santiago - La Serena Bernardo Navarrete | D40: Convenio Marco | E40: Aceptada | F40: Consejo para la Transparencia | G40: LATAM AIRLINES GROUP S.A. | H40: 89.862.200-2 | I40: 46183.513 | J40: 46183.528 | K40: 171029 | L40: 0 | M40: 15846 | N40: 0 | O40: 0 | P40: 186875 | Q40: $ | R40: $ | S40: =+P40 -> 186875 | T40: N/A
B41: 5752-30-AG26 | C41: Servicio de Coffee Break en Magallanes. | D41: Compra Ágil | E41: Aceptada | F41: Consejo para la Transparencia | G41: V&F INNOVACIONES SPA | H41: 78.233.608-8 | I41: 46178.407 | J41: 46178.412 | K41: 105042 | L41: 0 | M41: 0 | N41: 19957.98 | O41: 0 | P41: 124999.98 | Q41: $ | R41: $ | S41: =+P41 -> 124999.98 | T41: N/A
...

Sheet Compras Septiembre
B1: N° orden de compra | C1: Nombre de la OC | D1: Tipo de compra | E1: Estado OC | F1: Unidad compradora | G1: Nombre Proveedor | H1: RUT Proveedor | I1: Fecha de creación OC | J1: Fecha envió de OC | K1: Monto neto | L1: Descuentos | M1: Cargos | N1: I.V.A | O1: Impuesto Específico | P1: Total OC | Q1: Tipo Moneda | R1: Tipo de cambio | S1: Total OC en $
B2: 5752-62-AG26 | C2: Suscripción Licencias Claude.ai team standard seat. | D2: Compra Ágil | E2: Aceptada | F2: Consejo para la Transparencia | G2: IWS CHILE SPA | H2: 77.696.149-3 | I2: 46287.759 | J2: 46287.764 | K2: 1459800 | L2: 0 | M2: 0 | N2: 277362 | O2: 0 | P2: 1737162 | Q2: $ | R2: $ | S2: =+P2 -> 1737162
B3: 5752-61-AG26 | C3: Servicio de Catering "Fiestas Patrias" en la ciudad de Santiago | D3: Compra Ágil | E3: Aceptada | F3: Consejo para la Transparencia | G3: ANDREA CAROLINA VIDAL MATUS | H3: 16.175.345-9 | I3: 46280.656 | J3: 46280.681 | K3: 1117897 | L3: 0 | M3: 0 | N3: 212400.43 | O3: 0 | P3: 1330297 | Q3: $ | R3: $ | S3: =+P3 -> 1330297
B4: 5752-57-SE26 | C4: Equipaje Adicional Viaje Stgo-Concep. N.González | D4: Convenio Marco | E4: Aceptada | F4: Consejo para la Transparencia | G4: LATAM AIRLINES GROUP S.A. | H4: 89.862.200-2 | I4: 46266.427 | J4: 46266.437 | K4: 51480 | L4: 0 | M4: 0 | N4: 0 | O4: 0 | P4: 51480 | Q4: $ | R4: $ | S4: =+P4 -> 51480
B5: 5752-56-SE26 | C5: Equipaje Adicional Viaje Stgo-Concepción D.Ibaceta | D5: Convenio Marco | E5: Aceptada | F5: Consejo para la Transparencia | G5: LATAM AIRLINES GROUP S.A. | H5: 89.862.200-2 | I5: 46266.409 | J5: 46266.434 | K5: 51480 | L5: 0 | M5: 0 | N5: 0 | O5: 0 | P5: 51480 | Q5: $ | R5: $ | S5: =+P5 -> 51480
B6: Sumatoria Septiembre | D6: =COUNTA(D2:D5) -> 4 | S6: =SUM(S2:S5) -> 3170419

Sheet Compras Agosto
B1: N° orden de compra | C1: Nombre de la OC | D1: Tipo de compra | E1: Estado OC | F1: Unidad compradora | G1: Nombre Proveedor | H1: RUT Proveedor | I1: Fecha de creación OC | J1: Fecha envió de OC | K1: Monto neto | L1: Descuentos | M1: Cargos | N1: I.V.A | O1: Impuesto Específico | P1: Total OC | Q1: Tipo Moneda | R1: Tipo de cambio | S1: Total OC en $
B2: 5752-55-AG26 | C2: Servicio de Coffee Break en la ciudad de Concepción. | D2: Compra Ágil | E2: Aceptada | F2: Consejo para la Transparencia | G2: SERVICIOS DE PRODUCCIÓN DE EVENTOS Y COMIDAS AL PASO SPA | H2: 78.115.424-5 | I2: 46262.489 | J2: 46262.495 | K2: 300000 | L2: 0 | M2: 0 | N2: 57000 | O2: 0 | P2: 357000 | Q2: $ | R2: $ | S2: =+P2 -> 357000
B3: 5752-54-CM26 | C3: Compra de pasajes ida y vuelta nacional Santiago - Concepción Juan Pablo Camps | D3: Convenio Marco | E3: Aceptada | F3: Consejo para la Transparencia | G3: LATAM AIRLINES GROUP S.A. | H3: 89.862.200-2 | I3: 46260.432 | J3: 46260.656 | K3: 88861 | L3: 0 | M3: 16068 | N3: 0 | O3: 0 | P3: 104929 | Q3: $ | R3: $ | S3: =+P3 -> 104929
B4: 5752-53-CM26 | C4: Compra de pasajes ida y vuelta nacional Santiago - Concepción Isabel Figueroa | D4: Convenio Marco | E4: Aceptada | F4: Consejo para la Transparencia | G4: LATAM AIRLINES GROUP S.A. | H4: 89.862.200-2 | I4: 46259.705 | J4: 46260.545 | K4: 89758 | L4: 0 | M4: 16068 | N4: 0 | O4: 0 | P4: 105826 | Q4: $ | R4: $ | S4: =+P4 -> 105826
B5: 5752-52-AG26 | C5: Compra de insumos de oficina y aseo. | D5: Compra Ágil | E5: Aceptada | F5: Consejo para la Transparencia | G5: COMERCIAL GMA SPA | H5: 77.053.654-5 | I5: 46252.705 | J5: 46252.711 | K5: 374400 | L5: 0 | M5: 0 | N5: 71136 | O5: 0 | P5: 445536 | Q5: $ | R5: $ | S5: =+P5 -> 445536
B6: 5752-51-TD26 | C6: Orden de Compra generada por Trato Directo ID 5752-1-FTD26 | D6: Trato Directo | E6: Aceptada | F6: Consejo para la Transparencia | G6: GUADALTEL CHILE SERVICIOS DE INFORMACION SPA | H6: 76.108.701-0 | I6: 46246.405 | J6: 46246.551 | K6: 10932.83 | L6: 0 | M6: 0 | N6: 2077.2377 | O6: 0 | P6: 13010.068 | Q6: UF | R6: 40848.74 | S6: =+P6*R6 -> 5.3144487e+08
B7: 5752-50-CM26 | C7: Compra de pasajes ida y vuelta nacional Santiago - Concepción Juan Felipe Villanueva | D7: Convenio Marco | E7: Aceptada | F7: Consejo para la Transparencia | G7: LATAM AIRLINES GROUP S.A. | H7: 89.862.200-2 | I7: 46245.579 | J7: 46245.711 | K7: 74082 | L7: 0 | M7: 16068 | N7: 0 | O7: 0 | P7: 90150 | Q7: $ | R7: $ | S7: =+P7 -> 90150
B8: 5752-49-CM26 | C8: Compra de pasajes ida y vuelta nacional Santiago - Concepción Natalia González | D8: Convenio Marco | E8: Aceptada | F8: Consejo para la Transparencia | G8: LATAM AIRLINES GROUP S.A. | H8: 89.862.200-2 | I8: 46245.578 | J8: 46245.711 | K8: 74082 | L8: 0 | M8: 16068 | N8: 0 | O8: 0 | P8: 90150 | Q8: $ | R8: $ | S8: =+P8 -> 90150
B9: 5752-48-CM26 | C9: Compra de pasajes ida y vuelta nacional Santiago - Concepción David Ibaceta | D9: Convenio Marco | E9: Aceptada | F9: Consejo para la Transparencia | G9: LATAM AIRLINES GROUP S.A. | H9: 89.862.200-2 | I9: 46245.567 | J9: 46245.707 | K9: 112082 | L9: 0 | M9: 16068 | N9: 0 | O9: 0 | P9: 128150 | Q9: $ | R9: $ | S9: =+P9 -> 128150
B10: 5752-47-CM26 | C10: Compra de pasajes ida y vuelta nacional Santiago - Concepción Christian Anker | D10: Convenio Marco | E10: Aceptada | F10: Consejo para la Transparencia | G10: LATAM AIRLINES GROUP S.A. | H10: 89.862.200-2 | I10: 46245.564 | J10: 46245.699 | K10: 112082 | L10: 0 | M10: 16068 | N10: 0 | O10: 0 | P10: 128150 | Q10: $ | R10: $ | S10: =+P10 -> 128150
B11: 5752-44-AG26 | C11: Servicio de Coffee Break en la ciudad de Santa Cruz. | D11: Compra Ágil | E11: Aceptada | F11: Consejo para la Transparencia | G11: ALEX DAVID MORENO VERDUGO | H11: 14.262.795-7 | I11: 46240.514 | J11: 46240.526 | K11: 185000 | L11: 0 | M11: 0 | N11: 35150 | O11: 0 | P11: 220150 | Q11: $ | R11: $ | S11: =+P11 -> 220150
B12: Sumatoria Agosto | D12: =COUNTA(D2:D11) -> 10 | S12: =SUM(S2:S11) -> 5.3311491e+08

Sheet Compras Julio
B1: N° orden de compra | C1: Nombre de la OC | D1: Tipo de compra | E1: Estado OC | F1: Unidad compradora | G1: Nombre Proveedor | H1: RUT Proveedor | I1: Fecha de creación OC | J1: Fecha envió de OC | K1: Monto neto | L1: Descuentos | M1: Cargos | N1: I.V.A | O1: Impuesto Específico | P1: Total OC | Q1: Tipo Moneda | R1: Tipo de cambio | S1: Total OC en $
B2: 5752-43-SE26 | C2: Servicio de telefonia fija para el CPLT. | D2: Licitaciones | E2: Aceptada | F2: Consejo para la Transparencia | G2: GTD INTESIS S.A | H2: 78.159.800-3 | I2: 46231.622 | J2: 46231.664 | K2: 5220000 | L2: 0 | M2: 0 | N2: 991800 | O2: 0 | P2: 6211800 | Q2: $ | R2: $ | S2: =+P2 -> 6211800
B3: 5752-42-AG26 | C3: Suscripción Canva Negocios. | D3: Compra Ágil | E3: Aceptada | F3: Consejo para la Transparencia | G3: FLEX SSS SPA | H3: 76.992.701-8 | I3: 46225.701 | J3: 46225.709 | K3: 315000 | L3: 0 | M3: 0 | N3: 59850 | O3: 0 | P3: 374850 | Q3: $ | R3: $ | S3: =+P3 -> 374850
B4: 5752-41-AG26 | C4: Adquisición de renovación de 19 Firmas Electrónicas Avanzadas | D4: Compra Ágil | E4: Aceptada | F4: Consejo para la Transparencia | G4: ACEPTA.COM SPA | H4: 96.919.050-8 | I4: 46218.639 | J4: 46218.652 | K4: 531810 | L4: 0 | M4: 0 | N4: 101043.9 | O4: 0 | P4: 632853.9 | Q4: $ | R4: $ | S4: =+P4 -> 632853.9
B5: 5752-39-AG26 | C5: Renovación de Licencia “Progress DevCraft Complete". | D5: Compra Ágil | E5: Aceptada | F5: Consejo para la Transparencia | G5: FLEX SSS SPA | H5: 76.992.701-8 | I5: 46205.673 | J5: 46205.683 | K5: 1214905 | L5: 0 | M5: 0 | N5: 230831.95 | O5: 0 | P5: 1445736.9 | Q5: $ | R5: $ | S5: =+P5 -> 1445736.9
B6: Sumatoria Julio | D6: =COUNTA(D2:D5) -> 4 | S6: =SUM(S2:S5) -> 8665240.8

Sheet Compras Junio
B1: N° orden de compra | C1: Nombre de la OC | D1: Tipo de compra | E1: Estado OC | F1: Unidad compradora | G1: Nombre Proveedor | H1: RUT Proveedor | I1: Fecha de creación OC | J1: Fecha envió de OC | K1: Monto neto | L1: Descuentos | M1: Cargos | N1: I.V.A | O1: Impuesto Específico | P1: Total OC | Q1: Tipo Moneda | R1: Tipo de cambio | S1: Total OC en $
B2: 5752-38-SE26 | C2: Renovación de Licencias de Ofimáticas para el Consejo para la Transparencia | D2: Licitaciones | E2: Aceptada | F2: Consejo para la Transparencia | G2: CLARO CHILE SPA | H2: 96.799.250-k | I2: 46199.635 | J2: 46199.655 | K2: 30650436 | L2: 0 | M2: 0 | N2: 5823582.8 | O2: 0 | P2: 36474019 | Q2: $ | R2: $ | S2: =+P2 -> 36474019
B3: 5752-37-AG26 | C3: Campaña Comunicacional Concurso Escolar | D3: Compra Ágil | E3: Aceptada | F3: Consejo para la Transparencia | G3: SERVICIOS AUDIOVISUALES SOFAN SPA | H3: 77.150.876-6 | I3: 46198.396 | J3: 46198.432 | K3: 5042017 | L3: 0 | M3: 0 | N3: 957983.23 | O3: 0 | P3: 6000000.2 | Q3: $ | R3: $ | S3: =+P3 -> 6000000.2
B4: 5752-36-SE26 | C4: Plataforma Tecnológica, operación, soporte y mant. | D4: Trato Directo | E4: Aceptada | F4: Consejo para la Transparencia | G4: GUADALTEL CHILE SERVICIOS DE INFORMACION SPA | H4: 76.108.701-0 | I4: 46197.401 | J4: 46197.418 | K4: 3460828.5 | L4: 0 | M4: 0 | N4: 657557.42 | O4: 0 | P4: 4118385.9 | Q4: $ | R4: $ | S4: =+P4 -> 4118385.9
B5: 5752-35-SE26 | C5: Mantención, soporte técnico y mejoras de la plataf | D5: Licitaciones | E5: Aceptada | F5: Consejo para la Transparencia | G5: MS PROYECTOS SPA | H5: 76.149.807-k | I5: 46195.377 | J5: 46195.381 | K5: 25210084 | L5: 0 | M5: 0 | N5: 4789916 | O5: 0 | P5: 30000000 | Q5: $ | R5: $ | S5: =+P5 -> 30000000
B6: 5752-33-AG26 | C6: Arriendo 3 Escáner Seminuevos para el CPLT. | D6: Compra Ágil | E6: Aceptada | F6: Consejo para la Transparencia | G6: INTEGRACION DE SOLUCIONES LIMITADA | H6: 76.128.275-1 | I6: 46192.513 | J6: 46192.524 | K6: 4329807 | L6: 0 | M6: 0 | N6: 822663.33 | O6: 0 | P6: 5152470.3 | Q6: $ | R6: $ | S6: =+P6 -> 5152470.3
B7: 5752-32-AG26 | C7: Servicio de Catering en la ciudad de Santiago | D7: Compra Ágil | E7: Aceptada | F7: Consejo para la Transparencia | G7: VIVIAN ANGELICA DEL PILAR DE LA FUENTE ALACID | H7: 13.104.370-8 | I7: 46185.458 | J7: 46185.487 | K7: 400000 | L7: 0 | M7: 0 | N7: 76000 | O7: 0 | P7: 476000 | Q7: $ | R7: $ | S7: =+P7 -> 476000
B8: 5752-31-CM26 | C8: Compra de pasajes ida y vuelta nacional Santiago - La Serena Bernardo Navarrete | D8: Convenio Marco | E8: Aceptada | F8: Consejo para la Transparencia | G8: LATAM AIRLINES GROUP S.A. | H8: 89.862.200-2 | I8: 46183.513 | J8: 46183.528 | K8: 171029 | L8: 0 | M8: 15846 | N8: 0 | O8: 0 | P8: 186875 | Q8: $ | R8: $ | S8: =+P8 -> 186875
B9: 5752-30-AG26 | C9: Servicio de Coffee Break en Magallanes. | D9: Compra Ágil | E9: Aceptada | F9: Consejo para la Transparencia | G9: V&F INNOVACIONES SPA | H9: 78.233.608-8 | I9: 46178.407 | J9: 46178.412 | K9: 105042 | L9: 0 | M9: 0 | N9: 19957.98 | O9: 0 | P9: 124999.98 | Q9: $ | R9: $ | S9: =+P9 -> 124999.98
B10: 5752-29-AG26 | C10: Disco duro para servidor Lenovo ThinkSystem SR550 | D10: Compra Ágil | E10: Aceptada | F10: Consejo para la Transparencia | G10: CCIEXPRESS SERVICIOS TECNOLOGICOS SPA | H10: 77.414.781-0 | I10: 46174.461 | J10: 46174.522 | K10: 830000 | L10: 0 | M10: 0 | N10: 157700 | O10: 0 | P10: 987700 | Q10: $ | R10: $ | S10: =+P10 -> 987700
B11: 5752-28-AG26 | C11: Servicio de Coffee Break en Santiago. | D11: Compra Ágil | E11: Aceptada | F11: Consejo para la Transparencia | G11: FABRICACIÓN Y VENTA DE REPOSTERÍA, INSUMOS, CATERING Y CAFETERÍA MANUELA VALENZUELA SANDOVAL E.I.R.L. | H11: 77.028.014-1 | I11: 46174.389 | J11: 46174.395 | K11: 600000 | L11: 0 | M11: 0 | N11: 114000 | O11: 0 | P11: 714000 | Q11: $ | R11: $ | S11: =+P11 -> 714000
B12: Sumatoria Junio | D12: =COUNTA(D2:D11) -> 10 | S12: =SUM(S2:S11) -> 84234450

Sheet Compras Mayo
B1: N° orden de compra | C1: Nombre de la OC | D1: Tipo de compra | E1: Estado OC | F1: Unidad compradora | G1: Nombre Proveedor | H1: RUT Proveedor | I1: Fecha de creación OC | J1: Fecha envió de OC | K1: Monto neto | L1: Descuentos | M1: Cargos | N1: I.V.A | O1: Impuesto Específico | P1: Total OC | Q1: Tipo Moneda | R1: Tipo de cambio | S1: Total OC en $
B2: 5752-27-AG26 | C2: Renovación de 2 licencias Tableau Creator | D2: Compra Ágil | E2: Aceptada | F2: Consejo para la Transparencia | G2: TELECOSUR SPA | H2: 77.757.727-1 | I2: 46167.514 | J2: 46167.534 | K2: 1399720 | L2: 0 | M2: 0 | N2: 265946.8 | O2: 0 | P2: 1665666.8 | Q2: $ | R2: $ | S2: =+P2 -> 1665666.8
B3: 5752-26-AG26 | C3: Adquisición de Insumos de oficina y aseo | D3: Compra Ágil | E3: Aceptada | F3: Consejo para la Transparencia | G3: COMERCIAL FASIT LIMITADA | H3: 76.607.224-0 | I3: 46156.399 | J3: 46156.416 | K3: 619400 | L3: 0 | M3: 0 | N3: 117686 | O3: 0 | P3: 737086 | Q3: $ | R3: $ | S3: =+P3 -> 737086
B4: 5752-25-AG26 | C4: Servicio de desinstalación e instalación de puerta de vidrio templado | D4: Compra Ágil | E4: Aceptada | F4: Consejo para la Transparencia | G4: GASFERVEN SPA | H4: 77.288.459-1 | I4: 46154.697 | J4: 46154.718 | K4: 265000 | L4: 0 | M4: 0 | N4: 50350 | O4: 0 | P4: 315350 | Q4: $ | R4: $ | S4: =+P4 -> 315350
B5: 5752-24-AG26 | C5: Normas Chilenas ISO | D5: Compra Ágil | E5: Aceptada | F5: Consejo para la Transparencia | G5: INSTITUTO NACIONAL DE NORMALIZACION | H5: 70.049.100-5 | I5: 46146.696 | J5: 46146.705 | K5: 520800 | L5: 0 | M5: 0 | N5: 98952 | O5: 0 | P5: 619752 | Q5: $ | R5: $ | S5: =+P5 -> 619752
B6: Sumatoria Mayo | D6: =COUNTA(D2:D5) -> 4 | S6: =SUM(S2:S5) -> 3337854.8

Sheet Compras Abril
B1: N° orden de compra | C1: Nombre de la OC | D1: Tipo de compra | E1: Estado OC | F1: Unidad compradora | G1: Nombre Proveedor | H1: RUT Proveedor | I1: Fecha de creación OC | J1: Fecha envió de OC | K1: Monto neto | L1: Descuentos | M1: Cargos | N1: I.V.A | O1: Impuesto Específico | P1: Total OC | Q1: Tipo Moneda | R1: Tipo de cambio | S1: Total OC en $
B2: 5752-23-AG26 | C2: Examen detección consumo de drogas. | D2: Compra Ágil | E2: Aceptada | F2: Consejo para la Transparencia | G2: UNIVERSIDAD DE CHILE | H2: 60.910.000-1 | I2: 46139.46 | J2: 46139.468 | K2: 3960000 | L2: 0 | M2: 0 | N2: 0 | O2: 0 | P2: 3960000 | Q2: $ | R2: $ | S2: =+P2 -> 3960000
B3: 5752-22-AG26 | C3: Suscripción Licencias Chat GPT open AI, Créditos API Chat GPT. | D3: Compra Ágil | E3: Aceptada | F3: Consejo para la Transparencia | G3: FLEX SSS SPA | H3: 76.992.701-8 | I3: 46139.402 | J3: 46139.412 | K3: 1597474 | L3: 0 | M3: 0 | N3: 303520.06 | O3: 0 | P3: 1900994.1 | Q3: $ | R3: $ | S3: =+P3 -> 1900994.1
B4: 5752-21-AG26 | C4: Suscripción Licencias Claude AI Pro para el CPLT. | D4: Compra Ágil | E4: Aceptada | F4: Consejo para la Transparencia | G4: FLEX SSS SPA | H4: 76.992.701-8 | I4: 46135.686 | J4: 46135.693 | K4: 2173138 | L4: 0 | M4: 0 | N4: 412896.22 | O4: 0 | P4: 2586034.2 | Q4: $ | R4: $ | S4: =+P4 -> 2586034.2
B5: 5752-20-AG26 | C5: Lectores códigos de barra para el CPLT. | D5: Compra Ágil | E5: Aceptada | F5: Consejo para la Transparencia | G5: ENGINEER, PROJECT AND INNOVATION SPA | H5: 78.095.722-0 | I5: 46121.505 | J5: 46121.529 | K5: 572666 | L5: 0 | M5: 25000 | N5: 113556.54 | O5: 0 | P5: 711222.54 | Q5: $ | R5: $ | S5: =+P5 -> 711222.54
B6: 5752-19-AG26 | C6: Servicio de Coffee break en la ciudad de San Felipe . | D6: Compra Ágil | E6: Aceptada | F6: Consejo para la Transparencia | G6: LA GOLOSA SPA | H6: 77.904.157-3 | I6: 46120.644 | J6: 46120.663 | K6: 546219 | L6: 0 | M6: 0 | N6: 103781.61 | O6: 0 | P6: 650000.61 | Q6: $ | R6: $ | S6: =+P6 -> 650000.61
B7: 5752-18-AG26 | C7: Servicio de impresión de compendios para el Consejo para la Transparencia. | D7: Compra Ágil | E7: Aceptada | F7: Consejo para la Transparencia | G7: A IMPRESORES S.A. | H7: 96.830.710-k | I7: 46118.721 | J7: 46118.726 | K7: 705740 | L7: 0 | M7: 0 | N7: 134090.6 | O7: 0 | P7: 839830.6 | Q7: $ | R7: $ | S7: =+P7 -> 839830.6
B8: 5752-16-AG26 | C8: Servicio de alojamiento y servicios de alimentación. | D8: Compra Ágil | E8: Aceptada | F8: Consejo para la Transparencia | G8: C.G. DEMERCADO SPA | H8: 76.432.389-0 | I8: 46114.517 | J8: 46114.559 | K8: 702000 | L8: 0 | M8: 0 | N8: 133380 | O8: 0 | P8: 835380 | Q8: $ | R8: $ | S8: =+P8 -> 835380
B9: 5752-15-AG26 | C9: Servicio de Coffee break en la ciudad de Santiago | D9: Compra Ágil | E9: Aceptada | F9: Consejo para la Transparencia | G9: ANDREA CAROLINA VIDAL MATUS | H9: 16.175.345-9 | I9: 46114.514 | J9: 46114.546 | K9: 2800000 | L9: 0 | M9: 0 | N9: 532000 | O9: 0 | P9: 3332000 | Q9: $ | R9: $ | S9: =+P9 -> 3332000
B10: Sumatoria Abril | D10: =COUNTA(D2:D9) -> 8 | S10: =SUM(S2:S9) -> 14815462

Sheet Compras Marzo
B1: N° orden de compra | C1: Nombre de la OC | D1: Tipo de compra | E1: Estado OC | F1: Unidad compradora | G1: Nombre Proveedor | H1: RUT Proveedor | I1: Fecha de creación OC | J1: Fecha envió de OC | K1: Monto neto | L1: Descuentos | M1: Cargos | N1: I.V.A | O1: Impuesto Específico | P1: Total OC | Q1: Tipo Moneda | R1: Tipo de cambio | S1: Total OC en $
B2: 5752-14-SE26 | C2: Suministro de pasajes aéreos internacionales | D2: Licitaciones | E2: Aceptada | F2: Consejo para la Transparencia | G2: TRAVEL SECURITY S.A. | H2: 85.633.900-9 | I2: 46104.441 | J2: 46104.474 | K2: 25210084 | L2: 0 | M2: 0 | N2: 4789916 | O2: 0 | P2: 30000000 | Q2: $ | R2: $ | S2: =+P2 -> 30000000
B3: 5752-13-AG26 | C3: Servicio de impresión de guías para el Consejo para la Transparencia. | D3: Compra Ágil | E3: Aceptada | F3: Consejo para la Transparencia | G3: CREATIVA IMPRESA SPA | H3: 76.766.791-4 | I3: 46093.477 | J3: 46093.492 | K3: 384000 | L3: 0 | M3: 0 | N3: 72960 | O3: 0 | P3: 456960 | Q3: $ | R3: $ | S3: =+P3 -> 456960
B4: 5752-12-AG26 | C4: Servicio de empavonado en paneles vidriados. | D4: Compra Ágil | E4: Aceptada | F4: Consejo para la Transparencia | G4: COMERCIAL OC SPA | H4: 77.649.488-7 | I4: 46085.541 | J4: 46085.551 | K4: 416500 | L4: 0 | M4: 0 | N4: 79135 | O4: 0 | P4: 495635 | Q4: $ | R4: $ | S4: =+P4 -> 495635
B5: Sumatoria Marzo | D5: =COUNTA(D2:D4) -> 3 | S5: =SUM(S2:S4) -> 30952595

Sheet Compras Febrero
B1: N° orden de compra | C1: Nombre de la OC | D1: Tipo de compra | E1: Estado OC | F1: Unidad compradora | G1: Nombre Proveedor | H1: RUT Proveedor | I1: Fecha de creación OC | J1: Fecha envió de OC | K1: Monto neto | L1: Descuentos | M1: Cargos | N1: I.V.A | O1: Impuesto Específico | P1: Total OC | Q1: Tipo Moneda | R1: Tipo de cambio | S1: Total OC en $
B2: 5752-11-AG26 | C2: Confección e instalación cortinas Roller blackout para oficinas del CPLT. | D2: Compra Ágil | E2: Aceptada | F2: Consejo para la Transparencia | G2: CORTINAS ROLLER PRO SPA | H2: 76.790.387-1 | I2: 46072.55 | J2: 46072.58 | K2: 1206320 | L2: 0 | M2: 0 | N2: 229200.8 | O2: 0 | P2: 1435521 | Q2: $ | R2: $ | S2: =+P2 -> 1435521
B3: 5752-10-AG26 | C3: Remodelación Cierre oficinas con panel vidriado CPLT. | D3: Compra Ágil | E3: Aceptada | F3: Consejo para la Transparencia | G3: REXCON CONSTRUCTORA SPA | H3: 78.090.792-4 | I3: 46070.458 | J3: 46070.465 | K3: 1294000 | L3: 0 | M3: 0 | N3: 245860 | O3: 0 | P3: 1539860 | Q3: $ | R3: $ | S3: =+P3 -> 1539860
B4: 5752-9-CM26 | C4: Pasaje Sr. Egon Montecinos Santiago - Temuco. | D4: Convenio Marco | E4: Aceptada | F4: Consejo para la Transparencia | G4: LATAM AIRLINES GROUP S.A. | H4: 89.862.200-2 | I4: 46070.418 | J4: 46070.447 | K4: 53191 | L4: 0 | M4: 7814 | N4: 0 | O4: 0 | P4: 61005 | Q4: $ | R4: $ | S4: =+P4 -> 61005
B5: 5752-8-CM26 | C5: Pasajes Sr. Egon Montecinos Valdivia - Santiago. | D5: Convenio Marco | E5: Aceptada | F5: Consejo para la Transparencia | G5: LATAM AIRLINES GROUP S.A. | H5: 89.862.200-2 | I5: 46070.415 | J5: 46070.447 | K5: 45591 | L5: 0 | M5: 5956 | N5: 0 | O5: 0 | P5: 51547 | Q5: $ | R5: $ | S5: =+P5 -> 51547
B6: 5752-7-AG26 | C6: Porta credenciales y bolsas para Seminario Consejo para la Transparencia. | D6: Compra Ágil | E6: Aceptada | F6: Consejo para la Transparencia | G6: OBSEKIOS PROMOCIONALES SPA | H6: 77.669.338-3 | I6: 46065.396 | J6: 46065.517 | K6: 457500 | L6: 0 | M6: 0 | N6: 86925 | O6: 0 | P6: 544425 | Q6: $ | R6: $ | S6: =+P6 -> 544425
B7: 5752-6-SE26 | C7: Plataforma Tecnológica, operación, soporte y mant. | D7: Trato Directo | E7: Aceptada | F7: Consejo para la Transparencia | G7: GUADALTEL CHILE SERVICIOS DE INFORMACION SPA | H7: 76.108.701-0 | I7: 46055.545 | J7: 46055.571 | K7: 198556050 | L7: 0 | M7: 0 | N7: 37725650 | O7: 0 | P7: 236281700 | Q7: $ | R7: $ | S7: =+P7 -> 236281700
B8: Sumatoria Febrero | D8: =COUNTA(D2:D7) -> 6 | S8: =SUM(S2:S7) -> 239914058

Sheet Compras Enero
B1: N° orden de compra | C1: Nombre de la OC | D1: Tipo de compra | E1: Estado OC | F1: Unidad compradora | G1: Nombre Proveedor | H1: RUT Proveedor | I1: Fecha de creación OC | J1: Fecha envió de OC | K1: Monto neto | L1: Descuentos | M1: Cargos | N1: I.V.A | O1: Impuesto Específico | P1: Total OC | Q1: Tipo Moneda | R1: Tipo de cambio | S1: Total OC en $
B2: 5752-5-AG26 | C2: Servicio de Coffee Break en la ciudad de Coyhaique. | D2: Compra Ágil | E2: Aceptada | F2: Consejo para la Transparencia | G2: BEATRIZ SOLEDAD CUBILLA WANDERSLEBEN | H2: 18.470.403-k | I2: 46049.692 | J2: 46049.697 | K2: 252101 | L2: 0 | M2: 0 | N2: 47899.19 | O2: 0 | P2: 300000.19 | Q2: $ | R2: $ | S2: =+P2 -> 300000.19
B3: 5752-4-AG26 | C3: Plan Equipo Premier de Survey Monkey. | D3: Compra Ágil | E3: Aceptada | F3: Consejo para la Transparencia | G3: FLEX SSS SPA | H3: 76.992.701-8 | I3: 46045.482 | J3: 46045.487 | K3: 1316842 | L3: 0 | M3: 0 | N3: 250199.98 | O3: 0 | P3: 1567042 | Q3: $ | R3: $ | S3: =+P3 -> 1567042
B4: 5752-3-AG26 | C4: Servicio de impresión de cartilla para el Consejo para la Transparencia. | D4: Compra Ágil | E4: Aceptada | F4: Consejo para la Transparencia | G4: IMPRENTA LICANRAY LIMITADA | H4: 79.779.390-6 | I4: 46038.688 | J4: 46038.709 | K4: 1020000 | L4: 0 | M4: 0 | N4: 193800 | O4: 0 | P4: 1213800 | Q4: $ | R4: $ | S4: =+P4 -> 1213800
B5: 5752-2-AG26 | C5: Servicio de Coffee Break en Antofagasta y en Mejillones. | D5: Compra Ágil | E5: Aceptada | F5: Consejo para la Transparencia | G5: LAV SPA | H5: 76.909.956-5 | I5: 46038.669 | J5: 46038.701 | K5: 415000 | L5: 0 | M5: 0 | N5: 78850 | O5: 0 | P5: 493850 | Q5: $ | R5: $ | S5: =+P5 -> 493850
B6: 5752-1-AG26 | C6: Servicio de Coffee Break en la ciudad de Iquique | D6: Compra Ágil | E6: Aceptada | F6: Consejo para la Transparencia | G6: YANKO CARLOS BURGOS ARIAS | H6: 9.464.405-4 | I6: 46031.683 | J6: 46031.691 | K6: 520000 | L6: 0 | M6: 0 | N6: 98800 | O6: 0 | P6: 618800 | Q6: $ | R6: $ | S6: =+P6 -> 618800
B7: Sumatoria Enero | D7: =COUNTA(D2:D6) -> 5 | S7: =SUM(S2:S6) -> 4193492.2
